BEGIN:VCALENDAR
VERSION:2.0
PRODID:-//Rhenense Schaakclub - ECPv6.15.20//NONSGML v1.0//EN
CALSCALE:GREGORIAN
METHOD:PUBLISH
X-WR-CALNAME:Rhenense Schaakclub
X-ORIGINAL-URL:https://rhenense-schaakclub.nl
X-WR-CALDESC:Evenementen voor Rhenense Schaakclub
REFRESH-INTERVAL;VALUE=DURATION:PT1H
X-Robots-Tag:noindex
X-PUBLISHED-TTL:PT1H
BEGIN:VTIMEZONE
TZID:Europe/Helsinki
BEGIN:DAYLIGHT
TZOFFSETFROM:+0200
TZOFFSETTO:+0300
TZNAME:EEST
DTSTART:20200329T010000
END:DAYLIGHT
BEGIN:STANDARD
TZOFFSETFROM:+0300
TZOFFSETTO:+0200
TZNAME:EET
DTSTART:20201025T010000
END:STANDARD
BEGIN:DAYLIGHT
TZOFFSETFROM:+0200
TZOFFSETTO:+0300
TZNAME:EEST
DTSTART:20210328T010000
END:DAYLIGHT
BEGIN:STANDARD
TZOFFSETFROM:+0300
TZOFFSETTO:+0200
TZNAME:EET
DTSTART:20211031T010000
END:STANDARD
BEGIN:DAYLIGHT
TZOFFSETFROM:+0200
TZOFFSETTO:+0300
TZNAME:EEST
DTSTART:20220327T010000
END:DAYLIGHT
BEGIN:STANDARD
TZOFFSETFROM:+0300
TZOFFSETTO:+0200
TZNAME:EET
DTSTART:20221030T010000
END:STANDARD
END:VTIMEZONE
BEGIN:VTIMEZONE
TZID:Europe/Paris
BEGIN:DAYLIGHT
TZOFFSETFROM:+0100
TZOFFSETTO:+0200
TZNAME:CEST
DTSTART:20200329T010000
END:DAYLIGHT
BEGIN:STANDARD
TZOFFSETFROM:+0200
TZOFFSETTO:+0100
TZNAME:CET
DTSTART:20201025T010000
END:STANDARD
BEGIN:DAYLIGHT
TZOFFSETFROM:+0100
TZOFFSETTO:+0200
TZNAME:CEST
DTSTART:20210328T010000
END:DAYLIGHT
BEGIN:STANDARD
TZOFFSETFROM:+0200
TZOFFSETTO:+0100
TZNAME:CET
DTSTART:20211031T010000
END:STANDARD
BEGIN:DAYLIGHT
TZOFFSETFROM:+0100
TZOFFSETTO:+0200
TZNAME:CEST
DTSTART:20220327T010000
END:DAYLIGHT
BEGIN:STANDARD
TZOFFSETFROM:+0200
TZOFFSETTO:+0100
TZNAME:CET
DTSTART:20221030T010000
END:STANDARD
END:VTIMEZONE
BEGIN:VTIMEZONE
TZID:UTC
BEGIN:STANDARD
TZOFFSETFROM:+0000
TZOFFSETTO:+0000
TZNAME:UTC
DTSTART:20200101T000000
END:STANDARD
END:VTIMEZONE
BEGIN:VEVENT
DTSTART;TZID=Europe/Helsinki:20211115T190000
DTEND;TZID=Europe/Helsinki:20211115T230000
DTSTAMP:20260419T205744
CREATED:20211023T155147Z
LAST-MODIFIED:20211114T142356Z
UID:945-1637002800-1637017200@rhenense-schaakclub.nl
SUMMARY:Interne competitie
DESCRIPTION:Cyclus 1 ronde 9. Dit is de laatste ronde van de cyclus.
URL:https://rhenense-schaakclub.nl/events-backup/interne-competitie-9/
LOCATION:Achterberg
END:VEVENT
BEGIN:VEVENT
DTSTART;TZID=Europe/Helsinki:20211108T200000
DTEND;TZID=Europe/Helsinki:20211108T233000
DTSTAMP:20260419T205744
CREATED:20211023T155036Z
LAST-MODIFIED:20211023T155036Z
UID:943-1636401600-1636414200@rhenense-schaakclub.nl
SUMMARY:Rhenen 2 - Het Kasteel 3
DESCRIPTION:Rhenen 2 speelt hun derde SOS wedstrijd thuis tegen Het Kasteel 3.
URL:https://rhenense-schaakclub.nl/events-backup/rhenen-2-het-kasteel-3/
LOCATION:Achterberg
END:VEVENT
BEGIN:VEVENT
DTSTART;TZID=Europe/Helsinki:20211108T200000
DTEND;TZID=Europe/Helsinki:20211108T233000
DTSTAMP:20260419T205744
CREATED:20211023T154837Z
LAST-MODIFIED:20211023T154837Z
UID:940-1636401600-1636414200@rhenense-schaakclub.nl
SUMMARY:Interne competitie
DESCRIPTION:Cyclus 1 ronde 8. Rhenen 2 speelt thuis tegen Het Kasteel 3. Wees alsjeblieft op tijd aanwezig om verstoring te voorkomen.
URL:https://rhenense-schaakclub.nl/events-backup/interne-competitie-8/
END:VEVENT
BEGIN:VEVENT
DTSTART;TZID=Europe/Helsinki:20211105T200000
DTEND;TZID=Europe/Helsinki:20211105T233000
DTSTAMP:20260419T205744
CREATED:20211023T154647Z
LAST-MODIFIED:20211023T154700Z
UID:938-1636142400-1636155000@rhenense-schaakclub.nl
SUMMARY:Hoevelakens SG 1 - Rhenen 1
DESCRIPTION:Rhenen 1 speelt hun derde wedstrijd uit.
URL:https://rhenense-schaakclub.nl/events-backup/hoevelakens-sg-1-rhenen-1/
END:VEVENT
BEGIN:VEVENT
DTSTART;TZID=Europe/Helsinki:20211101T200000
DTEND;TZID=Europe/Helsinki:20211101T233000
DTSTAMP:20260419T205744
CREATED:20210907T094358Z
LAST-MODIFIED:20211017T133341Z
UID:658-1635796800-1635809400@rhenense-schaakclub.nl
SUMMARY:Rapid Competitie
DESCRIPTION:Ronde 1 van de interne Rapid Competitie. Iedereen speelt 3 tot 4 rapid partijen van elke 20 minuten per persoon zonder increment. Houd rekening met de Corona maatregelen tijdens het wisselen van bord.
URL:https://rhenense-schaakclub.nl/events-backup/rapid-competitie/
LOCATION:Achterberg
END:VEVENT
BEGIN:VEVENT
DTSTART;TZID=Europe/Helsinki:20211025T200000
DTEND;TZID=Europe/Helsinki:20211025T233000
DTSTAMP:20260419T205744
CREATED:20210907T094916Z
LAST-MODIFIED:20211017T133425Z
UID:660-1635192000-1635204600@rhenense-schaakclub.nl
SUMMARY:Interne competitie
DESCRIPTION:Ronde 7 van cyclus 1
URL:https://rhenense-schaakclub.nl/events-backup/interne-competitie-7/
LOCATION:Achterberg
END:VEVENT
BEGIN:VEVENT
DTSTART;TZID=Europe/Helsinki:20211018T200000
DTEND;TZID=Europe/Helsinki:20211018T233000
DTSTAMP:20260419T205744
CREATED:20210907T094131Z
LAST-MODIFIED:20210907T094144Z
UID:656-1634587200-1634599800@rhenense-schaakclub.nl
SUMMARY:Interne competitie
DESCRIPTION:Ronde 6 van cyclus 1.
URL:https://rhenense-schaakclub.nl/events-backup/interne-competitie-6/
LOCATION:Achterberg
END:VEVENT
BEGIN:VEVENT
DTSTART;TZID=Europe/Helsinki:20211011T200000
DTEND;TZID=Europe/Helsinki:20211011T233000
DTSTAMP:20260419T205744
CREATED:20210907T094051Z
LAST-MODIFIED:20210907T094051Z
UID:654-1633982400-1633995000@rhenense-schaakclub.nl
SUMMARY:Interne competitie
DESCRIPTION:Speelronde nummer 5 van cyclus 1. De leden van Rhenen 1 schaken thuis. Zorg dus dat je op tijd aanwezig bent zodat verstoring van de externe wedstrijd minimaal is.
URL:https://rhenense-schaakclub.nl/events-backup/interne-competitie-5/
LOCATION:Achterberg
END:VEVENT
BEGIN:VEVENT
DTSTART;TZID=Europe/Helsinki:20211011T200000
DTEND;TZID=Europe/Helsinki:20211011T233000
DTSTAMP:20260419T205744
CREATED:20210907T093903Z
LAST-MODIFIED:20210907T093903Z
UID:652-1633982400-1633995000@rhenense-schaakclub.nl
SUMMARY:SOS Rhenen 1 – BDSV 2
DESCRIPTION:Tweede wedstrijd van Rhenen 1. Thuiswedstrijd tegen BDSV 2.
URL:https://rhenense-schaakclub.nl/events-backup/sos-rhenen-1-bdsv-2/
LOCATION:Achterberg
END:VEVENT
BEGIN:VEVENT
DTSTART;TZID=Europe/Helsinki:20211005T200000
DTEND;TZID=Europe/Helsinki:20211005T233000
DTSTAMP:20260419T205744
CREATED:20210907T093804Z
LAST-MODIFIED:20210907T093804Z
UID:650-1633464000-1633476600@rhenense-schaakclub.nl
SUMMARY:SOS De Cirkel 2 – Rhenen 2
DESCRIPTION:De tweede wedstrijd van Rhenen 2. Uitwedstrijd tegen schaakclub De Cirkel 2.
URL:https://rhenense-schaakclub.nl/events-backup/sos-de-cirkel-2-rhenen-2/
END:VEVENT
BEGIN:VEVENT
DTSTART;TZID=Europe/Helsinki:20211004T200000
DTEND;TZID=Europe/Helsinki:20211004T233000
DTSTAMP:20260419T205744
CREATED:20210907T093645Z
LAST-MODIFIED:20210907T093645Z
UID:648-1633377600-1633390200@rhenense-schaakclub.nl
SUMMARY:Interne competitie
DESCRIPTION:Ronde 4 van de eerste cyclus.
URL:https://rhenense-schaakclub.nl/events-backup/interne-competitie-4/
LOCATION:Achterberg
END:VEVENT
BEGIN:VEVENT
DTSTART;TZID=Europe/Helsinki:20210927T200000
DTEND;TZID=Europe/Helsinki:20210927T233000
DTSTAMP:20260419T205744
CREATED:20210907T093555Z
LAST-MODIFIED:20210907T093555Z
UID:646-1632772800-1632785400@rhenense-schaakclub.nl
SUMMARY:Interne competitie
DESCRIPTION:Ronde 3 van de eerste cyclus.
URL:https://rhenense-schaakclub.nl/events-backup/interne-competitie-3/
LOCATION:Achterberg
END:VEVENT
BEGIN:VEVENT
DTSTART;TZID=Europe/Helsinki:20210927T200000
DTEND;TZID=Europe/Helsinki:20210927T233000
DTSTAMP:20260419T205744
CREATED:20210907T093248Z
LAST-MODIFIED:20210925T123734Z
UID:640-1632772800-1632785400@rhenense-schaakclub.nl
SUMMARY:voorronde Beker Competitie
DESCRIPTION:voorronde van de interne beker competitie.
URL:https://rhenense-schaakclub.nl/events-backup/beker-competitie/
LOCATION:Achterberg
END:VEVENT
BEGIN:VEVENT
DTSTART;TZID=Europe/Helsinki:20210920T200000
DTEND;TZID=Europe/Helsinki:20210920T233000
DTSTAMP:20260419T205744
CREATED:20210907T093516Z
LAST-MODIFIED:20210907T093516Z
UID:644-1632168000-1632180600@rhenense-schaakclub.nl
SUMMARY:Interne competitie
DESCRIPTION:Ronde 2 van de eerste cyclus.
URL:https://rhenense-schaakclub.nl/events-backup/interne-competitie-2/
LOCATION:Achterberg
END:VEVENT
BEGIN:VEVENT
DTSTART;TZID=Europe/Helsinki:20210920T200000
DTEND;TZID=Europe/Helsinki:20210920T233000
DTSTAMP:20260419T205744
CREATED:20210907T093342Z
LAST-MODIFIED:20210907T093342Z
UID:642-1632168000-1632180600@rhenense-schaakclub.nl
SUMMARY:SOS Rhenen 2 – Bennekom 2
DESCRIPTION:Eerste thuiswedstrijd van Rhenen 2 tegen Bennekom 2.
URL:https://rhenense-schaakclub.nl/events-backup/sos-rhenen-2-bennekom-2/
LOCATION:Achterberg
END:VEVENT
BEGIN:VEVENT
DTSTART;TZID=Europe/Helsinki:20210913T200000
DTEND;TZID=Europe/Helsinki:20210913T233000
DTSTAMP:20260419T205744
CREATED:20210907T093149Z
LAST-MODIFIED:20210907T093149Z
UID:638-1631563200-1631575800@rhenense-schaakclub.nl
SUMMARY:SOS Bennekom 1 - Rhenen 1
DESCRIPTION:Rhenen 1 uitwedstrijd tegen Bennekom 1
URL:https://rhenense-schaakclub.nl/events-backup/sos-bennekom-1-rhenen-1/
END:VEVENT
BEGIN:VEVENT
DTSTART;TZID=Europe/Paris:20210913T194500
DTEND;TZID=Europe/Paris:20210913T233000
DTSTAMP:20260419T205744
CREATED:20210901T192037Z
LAST-MODIFIED:20210901T193524Z
UID:471-1631562300-1631575800@rhenense-schaakclub.nl
SUMMARY:Interne competitie
DESCRIPTION:Eerste ronde van de interne competitie voor het seizoen 2021/2022.
URL:https://rhenense-schaakclub.nl/events-backup/interne-competitie/
LOCATION:Achterberg
END:VEVENT
BEGIN:VEVENT
DTSTART;TZID=UTC:20210906T201500
DTEND;TZID=UTC:20210906T211500
DTSTAMP:20260419T205744
CREATED:20210901T191748Z
LAST-MODIFIED:20210901T191801Z
UID:469-1630959300-1630962900@rhenense-schaakclub.nl
SUMMARY:Algemene Leden Vergadering
DESCRIPTION:Algemene leden vergadering voor het seizoen 2021/2022
URL:https://rhenense-schaakclub.nl/events-backup/algemene-leden-vergadering/
LOCATION:Achterberg
END:VEVENT
BEGIN:VEVENT
DTSTART;TZID=Europe/Paris:20210906T194500
DTEND;TZID=Europe/Paris:20210906T194500
DTSTAMP:20260419T205744
CREATED:20210901T160434Z
LAST-MODIFIED:20210901T160434Z
UID:418-1630957500-1630957500@rhenense-schaakclub.nl
SUMMARY:Vrij Schaken
DESCRIPTION:Iedereen is welkom om vrij te schaken tegen andere leden zonder puntentelling voor de interne competitie
URL:https://rhenense-schaakclub.nl/events-backup/vrij-schaken/
LOCATION:Achterberg
END:VEVENT
END:VCALENDAR